BEGIN:VCALENDAR
VERSION:2.0
PRODID:-//wp-events-plugin.com//7.2.3.1//EN
TZID:Europe/Paris
X-WR-TIMEZONE:Europe/Paris
BEGIN:VEVENT
UID:1534@bibliouccle.be
DTSTART;TZID=Europe/Paris:20260326T190000
DTEND;TZID=Europe/Paris:20260326T190000
DTSTAMP:20260211T153054Z
URL:https://www.bibliouccle.be/events/a-films-ouverts-sauf-le-passe/
SUMMARY:A Films Ouverts - Sauf le passé
DESCRIPTION:Projection du documentaire "Sauf le passé" de Sanaz Azari (202
 5\, 69')\n\nComment aborder aujourd’hui un musée construit il y a plus 
 d’un siècle pour servir une propagande coloniale ?\n\nÀ Tervuren\, pr
 ès de Bruxelles\, après 5 années de rénovation\, l’Africa Museum a r
 éouvert ses portes en proposant de nouvelles formes d’exposition. On y 
 croise des groupes de visiteurs en discussion avec leur guide mais aussi d
 es visiteurs déambulant librement.\n\nTout ce petit peuple du musée dess
 ine les contours d’un lieu où\, malgré les nouveaux récits\, le pass
 é semble ne pas passer.\n\nDans le cadre du Festival A Films Ouverts init
 ié par Média Animation ASBL\n\nLe Festival À Films Ouverts se déroule 
 chaque année autour du 21 mars. Pendant deux semaines\, il propose des pr
 ojections de films contre le racisme dans de nombreux lieux associatifs en
  Belgique francophone. Chaque projection est suivie d’un échange avec l
 e public.
ATTACH;FMTTYPE=image/jpeg:https://www.bibliouccle.be/wp-content/uploads/20
 26/02/AFFICHE_FINALE_HD_page-0001-scaled-e1770823826418.png
CATEGORIES:Projection,Rencontre
LOCATION:Bibliothèque du Phare\, Chaussée de Waterloo 935\, Uccle\, 1180\
 , Belgique
GEO:50.80712880;4.37059018
X-APPLE-STRUCTURED-LOCATION;VALUE=URI;X-ADDRESS=Chaussée de Waterloo 935\,
  Uccle\, 1180\, Belgique;X-APPLE-RADIUS=100;X-TITLE=Bibliothèque du Phare
 :geo:50.80712880,4.37059018
END:VEVENT
BEGIN:VTIMEZONE
TZID:Europe/Paris
X-LIC-LOCATION:Europe/Paris
BEGIN:STANDARD
DTSTART:20251026T020000
TZOFFSETFROM:+0200
TZOFFSETTO:+0100
TZNAME:CET
END:STANDARD
END:VTIMEZONE
END:VCALENDAR