BEGIN:VCALENDAR
VERSION:2.0
PRODID:-//wp-events-plugin.com//7.2.3.1//EN
TZID:Europe/Paris
X-WR-TIMEZONE:Europe/Paris
BEGIN:VEVENT
UID:641@bibliouccle.be
DTSTART;TZID=Europe/Paris:20250117T100000
DTEND;TZID=Europe/Paris:20250117T123000
DTSTAMP:20241210T141507Z
URL:https://www.bibliouccle.be/events/apprendre-a-utiliser-son-smartphone-
 4/
SUMMARY:Apprendre à utiliser son smartphone
DESCRIPTION:"Découverte des fonctionnalités de base du smartphone ainsi q
 ue de petites astuces pour utiliser au mieux cet objet du quotidien"\n\nSu
 r inscription\n\n&nbsp\;
ATTACH;FMTTYPE=image/jpeg:https://www.bibliouccle.be/wp-content/uploads/20
 24/08/phone-958066_1280.jpg
CATEGORIES:Atelier informatique
LOCATION:Bibliothèque du Centre\, 64\, rue Doyenné\, Uccle\, 1180\, Belgi
 que
X-APPLE-STRUCTURED-LOCATION;VALUE=URI;X-ADDRESS=64\, rue Doyenné\, Uccle\,
  1180\, Belgique;X-APPLE-RADIUS=100;X-TITLE=Bibliothèque du Centre:geo:0,
 0
END:VEVENT
BEGIN:VTIMEZONE
TZID:Europe/Paris
X-LIC-LOCATION:Europe/Paris
BEGIN:STANDARD
DTSTART:20241027T020000
TZOFFSETFROM:+0200
TZOFFSETTO:+0100
TZNAME:CET
END:STANDARD
END:VTIMEZONE
END:VCALENDAR