BEGIN:VCALENDAR
VERSION:2.0
PRODID:-//wp-events-plugin.com//7.2.3.1//EN
TZID:Europe/Paris
X-WR-TIMEZONE:Europe/Paris
BEGIN:VEVENT
UID:517@bibliouccle.be
DTSTART;TZID=Europe/Paris:20241123T100000
DTEND;TZID=Europe/Paris:20241123T113000
DTSTAMP:20241009T085828Z
URL:https://www.bibliouccle.be/events/atelier-creatif-avec-dominique-desca
 mps/
SUMMARY:Atelier créatif avec Dominique Descamps
DESCRIPTION:Dominique Descamps propose un atelier créatif à partir de son
  album\n\n"Boutons et boutonnières" édité aux éditions À pas de loups
 .\n\nVenez voir l'original de l'album et découvrir les jeux de mots de Mo
 utons et Boutons !\n\nLes enfants pourront fabriquer des grandes bêtes im
 aginaires à partir de chutes de tissus. Dominique expliquera les techniqu
 es appropriées aux enfants et aux parents pour une chouette réalisation.
 \n\nLa présence d'un parent est obligatoire pour aider l'enfant dans sa c
 réation.\n\nCet atelier est à destination d'un jeune public à partir de
  3 ans.\n\nInformations et inscriptions par téléphone au 02 605 14 80 ou
  par email lephare@uccle.brussels.
ATTACH;FMTTYPE=image/jpeg:https://www.bibliouccle.be/wp-content/uploads/20
 24/10/Com-Dominique-Descamps.png
CATEGORIES:Atelier créatif
LOCATION:Bibliothèque du Phare\, Chaussée de Waterloo 935\, Uccle\, 1180\
 , Belgique
GEO:50.80712880;4.37059018
X-APPLE-STRUCTURED-LOCATION;VALUE=URI;X-ADDRESS=Chaussée de Waterloo 935\,
  Uccle\, 1180\, Belgique;X-APPLE-RADIUS=100;X-TITLE=Bibliothèque du Phare
 :geo:50.80712880,4.37059018
END:VEVENT
BEGIN:VTIMEZONE
TZID:Europe/Paris
X-LIC-LOCATION:Europe/Paris
BEGIN:STANDARD
DTSTART:20241027T020000
TZOFFSETFROM:+0200
TZOFFSETTO:+0100
TZNAME:CET
END:STANDARD
END:VTIMEZONE
END:VCALENDAR