BEGIN:VCALENDAR
VERSION:2.0
PRODID:-//wp-events-plugin.com//7.2.3.1//EN
TZID:Europe/Paris
X-WR-TIMEZONE:Europe/Paris
BEGIN:VEVENT
UID:889@bibliouccle.be
DTSTART;TZID=Europe/Paris:20250425T153000
DTEND;TZID=Europe/Paris:20250425T173000
DTSTAMP:20250314T111948Z
URL:https://www.bibliouccle.be/events/atelier-creatif-avec-jean-yves-caste
 rman/
SUMMARY:Atelier créatif avec Jean-Yves Casterman
DESCRIPTION:Participe à un atelier créatif animé autour des albums de Je
 an-Yves Casterman\, et apprends ses techniques de réalisations !\n\nDe 5 
 à 7 ans.
ATTACH;FMTTYPE=image/jpeg:https://www.bibliouccle.be/wp-content/uploads/20
 25/03/A_contresens5.png
CATEGORIES:Atelier créatif,Festivaleke
LOCATION:Bibliothèque du Homborch\, Av. d'Homborchveld 30\, Uccle\, 1180\,
  Belgique
X-APPLE-STRUCTURED-LOCATION;VALUE=URI;X-ADDRESS=Av. d'Homborchveld 30\, Ucc
 le\, 1180\, Belgique;X-APPLE-RADIUS=100;X-TITLE=Bibliothèque du Homborch:
 geo:0,0
END:VEVENT
BEGIN:VTIMEZONE
TZID:Europe/Paris
X-LIC-LOCATION:Europe/Paris
BEGIN:DAYLIGHT
DTSTART:20250330T030000
TZOFFSETFROM:+0100
TZOFFSETTO:+0200
TZNAME:CEST
END:DAYLIGHT
END:VTIMEZONE
END:VCALENDAR