BEGIN:VCALENDAR
VERSION:2.0
PRODID:-//wp-events-plugin.com//7.2.3.1//EN
TZID:Europe/Paris
X-WR-TIMEZONE:Europe/Paris
BEGIN:VEVENT
UID:1193@bibliouccle.be
DTSTART;TZID=Europe/Paris:20251115T103000
DTEND;TZID=Europe/Paris:20251115T120000
DTSTAMP:20251103T131831Z
URL:https://www.bibliouccle.be/events/bookclub-quand-la-petite-histoire-re
 ncontre-la-grande/
SUMMARY:BOOKCLUB: Quand la petite histoire rencontre la grande
DESCRIPTION:Préparez vos stylos et votre appétit\, car Isabelle Parmentie
 r revient pour un nouveau rendez-vous littéraire aussi savoureux que ses 
 sélections de romans !\n\nAu programme : des destins intimes qui croisent
  les grands bouleversements de l’Histoire\, garanti 100% coups de cœur.
  Comme toujours\, une brochure vous sera offerte pour que vous puissiez re
 partir avec la liste complète des livres présentés.\n\nEt parce qu’on
  ne nourrit pas l’esprit sans un peu de réconfort\, les pains au chocol
 at et un bon café bien chaud seront eux aussi de la partie.\n\nGratuit et
  sur inscription. \n\nInfos et inscription : 02 605 14 60 ou bibcentre@uc
 cle.brussels
ATTACH;FMTTYPE=image/jpeg:https://www.bibliouccle.be/wp-content/uploads/20
 25/11/484050928_1088349996654280_4308371859973073002_n.jpg
CATEGORIES:Club de lecture
LOCATION:Bibliothèque du Centre\, 64\, rue Doyenné\, Uccle\, 1180\, Belgi
 que
X-APPLE-STRUCTURED-LOCATION;VALUE=URI;X-ADDRESS=64\, rue Doyenné\, Uccle\,
  1180\, Belgique;X-APPLE-RADIUS=100;X-TITLE=Bibliothèque du Centre:geo:0,
 0
END:VEVENT
BEGIN:VTIMEZONE
TZID:Europe/Paris
X-LIC-LOCATION:Europe/Paris
BEGIN:STANDARD
DTSTART:20251026T020000
TZOFFSETFROM:+0200
TZOFFSETTO:+0100
TZNAME:CET
END:STANDARD
END:VTIMEZONE
END:VCALENDAR