BEGIN:VCALENDAR
VERSION:2.0
PRODID:-//wp-events-plugin.com//7.2.3.1//EN
TZID:Europe/Paris
X-WR-TIMEZONE:Europe/Paris
BEGIN:VEVENT
UID:1139@bibliouccle.be
DTSTART;TZID=Europe/Paris:20250918T190000
DTEND;TZID=Europe/Paris:20250918T210000
DTSTAMP:20250829T074513Z
URL:https://www.bibliouccle.be/events/cine-phare-orlando/
SUMMARY:Ciné-Phare - Orlando
DESCRIPTION:Un documentaire de Joachim Thôme (2024\, 72')\n\nDans le cadre
  du Ciné-Phare dont le thème ce semestre est “La musique”\n\nA trave
 rs une mise en scène originale de la musique et de la parole\, Orlando no
 us emmène sur les traces d’un des plus grands compositeurs de la Renais
 sance\, Roland de Lassus. Ce musicien belge fascine autant pour son œuvre
  magistrale que pour son destin troublant. Bien qu’il fut une véritable
  star européenne à son époque\, le musicien lutta toute sa vie contre l
 es humiliations dues à sa condition de serviteur. Émouvant et immersif\,
  ce documentaire nous propose une méditation sur les rapports entre art e
 t pouvoir\, accompagné des interprétations de la Compagnie La Tempête.\
 n\nProjection en présence du réalisateur\n\n&nbsp\;
ATTACH;FMTTYPE=image/jpeg:https://www.bibliouccle.be/wp-content/uploads/20
 25/08/Orlando-affiche_logos_LRES2-e1756453505395.jpeg
CATEGORIES:Projection
LOCATION:Bibliothèque du Phare\, Chaussée de Waterloo 935\, Uccle\, 1180\
 , Belgique
GEO:50.80712880;4.37059018
X-APPLE-STRUCTURED-LOCATION;VALUE=URI;X-ADDRESS=Chaussée de Waterloo 935\,
  Uccle\, 1180\, Belgique;X-APPLE-RADIUS=100;X-TITLE=Bibliothèque du Phare
 :geo:50.80712880,4.37059018
END:VEVENT
BEGIN:VTIMEZONE
TZID:Europe/Paris
X-LIC-LOCATION:Europe/Paris
BEGIN:DAYLIGHT
DTSTART:20250330T030000
TZOFFSETFROM:+0100
TZOFFSETTO:+0200
TZNAME:CEST
END:DAYLIGHT
END:VTIMEZONE
END:VCALENDAR