BEGIN:VCALENDAR
VERSION:2.0
PRODID:-//wp-events-plugin.com//7.2.3.1//EN
TZID:Europe/Paris
X-WR-TIMEZONE:Europe/Paris
BEGIN:VEVENT
UID:304@bibliouccle.be
DTSTART;TZID=Europe/Paris:20240606T133000
DTEND;TZID=Europe/Paris:20240606T163000
DTSTAMP:20240508T121420Z
URL:https://www.bibliouccle.be/events/coup-de-pouce-numerique-2-2024-06-06
 /
SUMMARY:Coup de pouce numérique
DESCRIPTION:Une séance personnalisée durant laquelle un soutien sera appo
 rté face à des soucis rencontrés en terme de numérique. Problème de c
 onnexion\, de création de compte\, de démarche en ligne ou de gestion d
 ’applications.\n\nSur rendez-vous : 02/605.14.60 - bibcentre@uccle.brus
 sels.\n\nGratuit.
ATTACH;FMTTYPE=image/jpeg:https://www.bibliouccle.be/wp-content/uploads/20
 24/04/pexels-karolina-grabowska-4977444-scaled.jpg
CATEGORIES:Atelier créatif
LOCATION:Bibliothèque du Centre\, 64\, rue Doyenné\, Uccle\, 1180\, Belgi
 que
X-APPLE-STRUCTURED-LOCATION;VALUE=URI;X-ADDRESS=64\, rue Doyenné\, Uccle\,
  1180\, Belgique;X-APPLE-RADIUS=100;X-TITLE=Bibliothèque du Centre:geo:0,
 0
END:VEVENT
BEGIN:VTIMEZONE
TZID:Europe/Paris
X-LIC-LOCATION:Europe/Paris
BEGIN:DAYLIGHT
DTSTART:20240331T030000
TZOFFSETFROM:+0100
TZOFFSETTO:+0200
TZNAME:CEST
END:DAYLIGHT
END:VTIMEZONE
END:VCALENDAR