BEGIN:VCALENDAR
VERSION:2.0
PRODID:-//wp-events-plugin.com//7.2.3.1//EN
TZID:Europe/Paris
X-WR-TIMEZONE:Europe/Paris
BEGIN:VEVENT
UID:1148@bibliouccle.be
DTSTART;TZID=Europe/Paris:20251105T150000
DTEND;TZID=Europe/Paris:20251105T160000
DTSTAMP:20250825T123723Z
URL:https://www.bibliouccle.be/events/heure-du-conte-111/
SUMMARY:Heure du Conte
DESCRIPTION:1er &amp\; 3ème MERCREDI de chaque mois sauf pendant les vacan
 ces scolaires.\n\nDes histoires super chouettes pour les enfants à partir
  de 4 ans et leurs parents.\n\nSans inscription. Gratuit.\n\nLes prochaine
 s séances auront lieu le 19 novembre\, 3 &amp\; 17 décembre.
ATTACH;FMTTYPE=image/jpeg:https://www.bibliouccle.be/wp-content/uploads/20
 25/08/image-heure-du-conte.jpg
CATEGORIES:Lecture
LOCATION:Bibliothèque du Centre\, 64\, rue Doyenné\, Uccle\, 1180\, Belgi
 que
X-APPLE-STRUCTURED-LOCATION;VALUE=URI;X-ADDRESS=64\, rue Doyenné\, Uccle\,
  1180\, Belgique;X-APPLE-RADIUS=100;X-TITLE=Bibliothèque du Centre:geo:0,
 0
END:VEVENT
BEGIN:VTIMEZONE
TZID:Europe/Paris
X-LIC-LOCATION:Europe/Paris
BEGIN:STANDARD
DTSTART:20251026T020000
TZOFFSETFROM:+0200
TZOFFSETTO:+0100
TZNAME:CET
END:STANDARD
END:VTIMEZONE
END:VCALENDAR