BEGIN:VCALENDAR
VERSION:2.0
PRODID:-//wp-events-plugin.com//7.2.3.1//EN
TZID:Europe/Paris
X-WR-TIMEZONE:Europe/Paris
BEGIN:VEVENT
UID:920@bibliouccle.be
DTSTART;TZID=Europe/Paris:20250531T100000
DTEND;TZID=Europe/Paris:20250531T170000
DTSTAMP:20250429T105416Z
URL:https://www.bibliouccle.be/events/journee-speciale-fete-du-jeu/
SUMMARY:Journée spéciale Fête du jeu
DESCRIPTION:Deux auteurs de jeux (re)viendront présenter leurs créations 
 : Gilles Binot avec son système D20 et TGCQ (Ta gueule c’est quantique)
  et Max Hefnier avec son Barok Games.\n2 séances de jeu de rôles seront 
 proposées à 10h30 et 15h00\nD’autres tables de jeux de rôle ainsi que
  des animations surprises seront proposées. À partir de 8 ans
ATTACH;FMTTYPE=image/jpeg:https://www.bibliouccle.be/wp-content/uploads/20
 25/04/image-1.png
CATEGORIES:Jeu,Mois du jeu
LOCATION:Bibliothèque du Phare\, Chaussée de Waterloo 935\, Uccle\, 1180\
 , Belgique
GEO:50.80712880;4.37059018
X-APPLE-STRUCTURED-LOCATION;VALUE=URI;X-ADDRESS=Chaussée de Waterloo 935\,
  Uccle\, 1180\, Belgique;X-APPLE-RADIUS=100;X-TITLE=Bibliothèque du Phare
 :geo:50.80712880,4.37059018
END:VEVENT
BEGIN:VTIMEZONE
TZID:Europe/Paris
X-LIC-LOCATION:Europe/Paris
BEGIN:DAYLIGHT
DTSTART:20250330T030000
TZOFFSETFROM:+0100
TZOFFSETTO:+0200
TZNAME:CEST
END:DAYLIGHT
END:VTIMEZONE
END:VCALENDAR