BEGIN:VCALENDAR
VERSION:2.0
PRODID:-//wp-events-plugin.com//7.2.3.1//EN
TZID:Europe/Paris
X-WR-TIMEZONE:Europe/Paris
BEGIN:VEVENT
UID:909@bibliouccle.be
DTSTART;TZID=Europe/Paris:20250502T190000
DTEND;TZID=Europe/Paris:20250502T203000
DTSTAMP:20250424T083933Z
URL:https://www.bibliouccle.be/events/le-maitre-du-jeu-spectacle-dont-vous
 -etes-le-heros/
SUMMARY:Spectacle dont vous êtes le héros
DESCRIPTION:Bienvenue dans le spectacle dont vous êtes le héros !\nAventu
 rières\, aventuriers\, préparez-vous à entrer dans un spectacle interac
 tif rempli d'Orcs\, de magiciens et d'objets magiques comme vous n'en avez
  jamais rêvé.\nCar oui\, c'est vous\, et vous seul qui allez décider de
  la marche à suivre dans cette folle aventure. Allez-vous continuer dans 
 le couloir de cette grotte sombre\, avide de l'or qui se trouverait à l'i
 ntérieur ou préférez-vous rester à la taverne du coin à écouter les 
 dires d'un vieux barde ?\nChaque choix\, chaque action\, vous en serez les
  seuls responsables... Enfin vous et les résultats des dés.\nQue vous so
 yez expert ou débutant\, venez participer à ce spectacle unique en son g
 enre : une partie de jeu de rôle mélangé à du stand-up... Et ça\, par
 ole de Maître du jeu\, vous ne le verrez nulle part ailleurs!\n\nAvec Jea
 n-Baptiste Mazoyer.
ATTACH;FMTTYPE=image/jpeg:https://www.bibliouccle.be/wp-content/uploads/20
 25/04/le-maitre-du-jeu.jpg
CATEGORIES:Jeu,Mois du jeu,Spectacle
LOCATION:Bibliothèque du Phare\, Chaussée de Waterloo 935\, Uccle\, 1180\
 , Belgique
GEO:50.80712880;4.37059018
X-APPLE-STRUCTURED-LOCATION;VALUE=URI;X-ADDRESS=Chaussée de Waterloo 935\,
  Uccle\, 1180\, Belgique;X-APPLE-RADIUS=100;X-TITLE=Bibliothèque du Phare
 :geo:50.80712880,4.37059018
END:VEVENT
BEGIN:VTIMEZONE
TZID:Europe/Paris
X-LIC-LOCATION:Europe/Paris
BEGIN:DAYLIGHT
DTSTART:20250330T030000
TZOFFSETFROM:+0100
TZOFFSETTO:+0200
TZNAME:CEST
END:DAYLIGHT
END:VTIMEZONE
END:VCALENDAR