BEGIN:VCALENDAR
VERSION:2.0
PRODID:-//wp-events-plugin.com//7.2.3.1//EN
TZID:Europe/Paris
X-WR-TIMEZONE:Europe/Paris
BEGIN:VEVENT
UID:279@bibliouccle.be
DTSTART;TZID=Europe/Paris:20240624T130000
DTEND;TZID=Europe/Paris:20240624T150000
DTSTAMP:20240605T122230Z
URL:https://www.bibliouccle.be/events/lun-dires-2-2024-06-24/
SUMMARY:Lun-dires
DESCRIPTION:Atelier pour ainé·e·s mêlant réveil corporel\, littératur
 e et échanges culturels\, animé par Dominique Bastin.   \n\nLibre. Gra
 tuit. 
ATTACH;FMTTYPE=image/jpeg:https://www.bibliouccle.be/wp-content/uploads/20
 24/04/IMG_5480-scaled.jpg
CATEGORIES:Atelier créatif,Lecture
LOCATION:Bibliothèque du Homborch\, Av. d'Homborchveld 30\, Uccle\, 1180\,
  Belgique
X-APPLE-STRUCTURED-LOCATION;VALUE=URI;X-ADDRESS=Av. d'Homborchveld 30\, Ucc
 le\, 1180\, Belgique;X-APPLE-RADIUS=100;X-TITLE=Bibliothèque du Homborch:
 geo:0,0
END:VEVENT
BEGIN:VTIMEZONE
TZID:Europe/Paris
X-LIC-LOCATION:Europe/Paris
BEGIN:DAYLIGHT
DTSTART:20240331T030000
TZOFFSETFROM:+0100
TZOFFSETTO:+0200
TZNAME:CEST
END:DAYLIGHT
END:VTIMEZONE
END:VCALENDAR