BEGIN:VCALENDAR
VERSION:2.0
PRODID:-//wp-events-plugin.com//7.2.3.1//EN
TZID:Europe/Paris
X-WR-TIMEZONE:Europe/Paris
BEGIN:VEVENT
UID:1021@bibliouccle.be
DTSTART;TZID=Europe/Paris:20260117T103000
DTEND;TZID=Europe/Paris:20260117T123000
DTSTAMP:20250708T101134Z
URL:https://www.bibliouccle.be/events/pause-culture-13/
SUMMARY:Pause culture
DESCRIPTION:Ceci n’est pas un club de lecture (Enfin si\, mais pas que
 …).\n\nUn livre marquant\, un film\, un spectacle ou une exposition imma
 nquable\, rejoignez le club et partagez vos coups de cœur.\nAutour de bo
 issons chaudes\, dans un esprit convivial et ouvert\, prenez un moment pou
 r échanger ou simplement récolter des pépites.\n\nLa prochaine séance 
 aura pour thème “Les animaux”.
ATTACH;FMTTYPE=image/jpeg:https://www.bibliouccle.be/wp-content/uploads/20
 24/02/pause-culture.jpeg
CATEGORIES:Club de lecture
LOCATION:Bibliothèque du Phare\, Chaussée de Waterloo 935\, Uccle\, 1180\
 , Belgique
GEO:50.80712880;4.37059018
X-APPLE-STRUCTURED-LOCATION;VALUE=URI;X-ADDRESS=Chaussée de Waterloo 935\,
  Uccle\, 1180\, Belgique;X-APPLE-RADIUS=100;X-TITLE=Bibliothèque du Phare
 :geo:50.80712880,4.37059018
END:VEVENT
BEGIN:VTIMEZONE
TZID:Europe/Paris
X-LIC-LOCATION:Europe/Paris
BEGIN:STANDARD
DTSTART:20251026T020000
TZOFFSETFROM:+0200
TZOFFSETTO:+0100
TZNAME:CET
END:STANDARD
END:VTIMEZONE
END:VCALENDAR