BEGIN:VCALENDAR
VERSION:2.0
PRODID:-//wp-events-plugin.com//7.2.3.1//EN
TZID:Europe/Paris
X-WR-TIMEZONE:Europe/Paris
BEGIN:VEVENT
UID:1546@bibliouccle.be
DTSTART;TZID=Europe/Paris:20260306T180000
DTEND;TZID=Europe/Paris:20260306T200000
DTSTAMP:20260303T142810Z
URL:https://www.bibliouccle.be/events/retour-vers-lecriture/
SUMMARY:Retour vers l'écriture
DESCRIPTION:Ce cycle de 4 ateliers d'écriture ( les vendredis 6\, 13\, 20 
 et 27 mars)\, dans le cadre de l'événement La Langue française en fête
  2026\, vous embarquera dans la thématique de récit d'anticipation !\n\n
 Au programme : un accompagnement centré sur la part singulière de VOTRE 
 écriture.\n\nL'idée ? Découvrir\, tester\, apprivoiser votre propre che
 min d'écriture : roman\, nouvelle\, poésie\, chanson...tout est permis.\
 n\nEn s'autorisant les maladresses et tâtonnements inhérents à tout app
 rentissage\, chacun pourra partir à l'aventure de son langage personnel e
 n imaginant des mises en scène de soi\, du monde et des autres dans un fu
 tur proche\, imaginaire\, inspiré\, pressenti et fantasmé.\n\nBref\, un 
 terrain de jeu pour inventer demain...avec vos mots.\n\nAnimé par Cédric
  Migard.\n\nSur inscription au 02 605 14 60 ou par mail : bibcentre@uccle.
 brussels\n\n&nbsp\;
ATTACH;FMTTYPE=image/jpeg:https://www.bibliouccle.be/wp-content/uploads/20
 26/03/White-and-Black-Texture-International-Day-Of-Democracy-Poster-.png
CATEGORIES:Atelier d'écriture
END:VEVENT
BEGIN:VTIMEZONE
TZID:Europe/Paris
X-LIC-LOCATION:Europe/Paris
BEGIN:STANDARD
DTSTART:20251026T020000
TZOFFSETFROM:+0200
TZOFFSETTO:+0100
TZNAME:CET
END:STANDARD
END:VTIMEZONE
END:VCALENDAR