BEGIN:VCALENDAR
VERSION:2.0
PRODID:-//wp-events-plugin.com//7.2.3.1//EN
TZID:Europe/Paris
X-WR-TIMEZONE:Europe/Paris
BEGIN:VEVENT
UID:330@bibliouccle.be
DTSTART;TZID=Europe/Paris:20240618T170000
DTEND;TZID=Europe/Paris:20240618T190000
DTSTAMP:20240528T143319Z
URL:https://www.bibliouccle.be/events/sidentifier-simplement-en-ligne-cart
 e-didentite-ou-itsme-2/
SUMMARY:S'identifier simplement en ligne : carte d'identité ou Itsme
DESCRIPTION:Cet atelier propose une découverte des deux principaux procéd
 és de connexion aux services en ligne tels que banque\, mutuelle\, santé
 \, finances\, pensions\, etc. L’eID et l’application itsme. \n\nInscr
 iption au 0490 42 50 36 - epnbiblio@uccle.brussels
ATTACH;FMTTYPE=image/jpeg:https://www.bibliouccle.be/wp-content/uploads/20
 24/04/itsme_taxonweb_16-9.jpg
CATEGORIES:Atelier informatique
LOCATION:Bibliothèque du Phare\, Chaussée de Waterloo 935\, Uccle\, 1180\
 , Belgique
GEO:50.80712880;4.37059018
X-APPLE-STRUCTURED-LOCATION;VALUE=URI;X-ADDRESS=Chaussée de Waterloo 935\,
  Uccle\, 1180\, Belgique;X-APPLE-RADIUS=100;X-TITLE=Bibliothèque du Phare
 :geo:50.80712880,4.37059018
END:VEVENT
BEGIN:VTIMEZONE
TZID:Europe/Paris
X-LIC-LOCATION:Europe/Paris
BEGIN:DAYLIGHT
DTSTART:20240331T030000
TZOFFSETFROM:+0100
TZOFFSETTO:+0200
TZNAME:CEST
END:DAYLIGHT
END:VTIMEZONE
END:VCALENDAR