BEGIN:VCALENDAR
VERSION:2.0
PRODID:-//wp-events-plugin.com//7.2.3.1//EN
TZID:Europe/Paris
X-WR-TIMEZONE:Europe/Paris
BEGIN:VEVENT
UID:777@bibliouccle.be
DTSTART;TZID=Europe/Paris:20250224T100000
DTEND;TZID=Europe/Paris:20250228T120000
DTSTAMP:20250218T111518Z
URL:https://www.bibliouccle.be/events/stage-amigurumis/
SUMMARY:ANNULÉ !!! Stage amigurumis
DESCRIPTION:Viens t’initier au crochet ou en apprendre plus\, tout en cr
 éant tes (mini) amigurumis.\nPour enfants et ados de 10 à 18 ans\, débu
 tant ou non. \nStage gratuit.\n\nInfos et inscription au 02/605 14 80 ou 
 lephare@uccle.brussels
ATTACH;FMTTYPE=image/jpeg:https://www.bibliouccle.be/wp-content/uploads/20
 25/01/amigurumis.png
CATEGORIES:Atelier créatif
LOCATION:Bibliothèque du Phare\, Chaussée de Waterloo 935\, Uccle\, 1180\
 , Belgique
GEO:50.80712880;4.37059018
X-APPLE-STRUCTURED-LOCATION;VALUE=URI;X-ADDRESS=Chaussée de Waterloo 935\,
  Uccle\, 1180\, Belgique;X-APPLE-RADIUS=100;X-TITLE=Bibliothèque du Phare
 :geo:50.80712880,4.37059018
END:VEVENT
BEGIN:VTIMEZONE
TZID:Europe/Paris
X-LIC-LOCATION:Europe/Paris
BEGIN:STANDARD
DTSTART:20241027T020000
TZOFFSETFROM:+0200
TZOFFSETTO:+0100
TZNAME:CET
END:STANDARD
END:VTIMEZONE
END:VCALENDAR