BEGIN:VCALENDAR
VERSION:2.0
PRODID:-//wp-events-plugin.com//7.2.3.1//EN
TZID:Europe/Paris
X-WR-TIMEZONE:Europe/Paris
BEGIN:VEVENT
UID:866@bibliouccle.be
DTSTART;TZID=Europe/Paris:20250409T150000
DTEND;TZID=Europe/Paris:20250409T180000
DTSTAMP:20250319T175728Z
URL:https://www.bibliouccle.be/events/vernissage-et-dedicace-avec-lea-vian
 a-ferreira-pierre-alexis/
SUMMARY:Vernissage et dédicace avec Léa Viana Ferreira &amp\; Pierre Alex
 is
DESCRIPTION:Rencontre\, dédicaces et création collective au Festivaleke !
  🎨📚\n\nNous avons le plaisir d’accueillir Léa Viana Ferreira et P
 ierre Alexis pour une séance de dédicaces de leurs albums jeunesse hauts
  en couleur ! Venez découvrir leur univers\, échanger avec eux et repart
 ir avec un livre signé.\n\n🌟 Profitez aussi du lancement de notre gra
 nde fresque évolutive inspirée des albums des artistes. Avec vos enfants
 \, ajoutez vos couleurs à cette œuvre collective\, qui restera exposée 
 pendant un mois à la bibliothèque.\n\n🥳 Et pour couronner le tout ? U
 n goûter festif\, une ambiance chaleureuse et la possibilité d’acheter
  sur place les livres des artistes pour prolonger la magie à la maison.\n
 \nDécouvrez le programme du Festivaleke ici !
ATTACH;FMTTYPE=image/jpeg:https://www.bibliouccle.be/wp-content/uploads/20
 25/03/Visuels-pour-les-reseaux-sociaux.png
CATEGORIES:Festivaleke,Rencontre
LOCATION:Bibliothèque du Centre\, 64\, rue Doyenné\, Uccle\, 1180\, Belgi
 que
X-APPLE-STRUCTURED-LOCATION;VALUE=URI;X-ADDRESS=64\, rue Doyenné\, Uccle\,
  1180\, Belgique;X-APPLE-RADIUS=100;X-TITLE=Bibliothèque du Centre:geo:0,
 0
END:VEVENT
BEGIN:VTIMEZONE
TZID:Europe/Paris
X-LIC-LOCATION:Europe/Paris
BEGIN:DAYLIGHT
DTSTART:20250330T030000
TZOFFSETFROM:+0100
TZOFFSETTO:+0200
TZNAME:CEST
END:DAYLIGHT
END:VTIMEZONE
END:VCALENDAR